BEGIN:VCALENDAR
VERSION:2.0
PRODID:-//The School of Practical Philosophy &amp; Meditation - ECPv6.15.18//NONSGML v1.0//EN
CALSCALE:GREGORIAN
METHOD:PUBLISH
X-ORIGINAL-URL:https://philosophyworks.org
X-WR-CALDESC:Events for The School of Practical Philosophy &amp; Meditation
REFRESH-INTERVAL;VALUE=DURATION:PT1H
X-Robots-Tag:noindex
X-PUBLISHED-TTL:PT1H
BEGIN:VTIMEZONE
TZID:UTC
BEGIN:STANDARD
TZOFFSETFROM:+0000
TZOFFSETTO:+0000
TZNAME:UTC
DTSTART:20250101T000000
END:STANDARD
END:VTIMEZONE
BEGIN:VEVENT
DTSTART;TZID=UTC:20260515T200000
DTEND;TZID=UTC:20260517T170000
DTSTAMP:20260421T070638
CREATED:20220829T183214Z
LAST-MODIFIED:20251214T121410Z
UID:4061-1778875200-1779037200@philosophyworks.org
SUMMARY:Introduction to Meditation (by invitation only)
DESCRIPTION:
URL:https://philosophyworks.org/event/introduction-to-meditation-weekend-1-by-invitation/
LOCATION:Wallkill\, 323 Borden Circle\, Wallkill\, 12589\, United States
END:VEVENT
END:VCALENDAR